BEGIN:VCALENDAR
VERSION:2.0
PRODID:icalendar-ruby
CALSCALE:GREGORIAN
METHOD:PUBLISH
BEGIN:VEVENT
DTSTAMP:20260425T144230Z
UID:14-1157864@stjohnselc1002.org
DTSTART:20261106T000000Z
DTEND:20261106T010000Z
CLASS:PUBLIC
CREATED:20260425T080311
DESCRIPTION:
LAST-MODIFIED:20260425T080311
LOCATION:Church Sanctuary
SUMMARY:Chancel Choir Rehearsal
URL;VALUE=URI:https://stjohnselc1002.org/events/chancel-choir-rehearsal/202
 6-11-05
ATTACH;FILENAME=3167be_cf64c8ffaa6447d6aefca444d26f9538~mv2.jpg.jpg;FMTTYPE
 =image/jpeg:https://dq5pwpg1q8ru0.cloudfront.net/2024/09/08/21/26/54/ae970
 e6b-dc01-4079-9cb6-ebe787a94402/3167be_cf64c8ffaa6447d6aefca444d26f9538~mv
 2.jpg.jpg
END:VEVENT
END:VCALENDAR
