BEGIN:VCALENDAR
VERSION:2.0
PRODID:icalendar-ruby
CALSCALE:GREGORIAN
METHOD:PUBLISH
BEGIN:VEVENT
DTSTAMP:20260422T162144Z
UID:38-894665@stjohnselc1002.org
DTSTART:20250405T133000Z
DTEND:20250405T163000Z
CLASS:PUBLIC
CREATED:20260313T154320
DESCRIPTION:Join Us for the Easter Bunny Eggstravaganza!\nHop on over for a
  morning of spring fun at our Easter Bunny Eggstravaganza. This exciting e
 vent is packed with fun for all ages\, including games\, prizes\, and refr
 eshments.\nWe can't wait to celebrate the season with you and your family!
 \nCost: Admission is simply a freewill donation\nEvent Highlights:\n\nPhot
 os with the Easter Bunny: We will have a dedicated\, sensory-friendly pict
 ure area available.\nBunny Races: Cheer on the competitors and choose a bu
 nny to win the race!\nFamily Activities: Enjoy crafts for the kids and ent
 er our basket raffle.\n
LAST-MODIFIED:20260313T154320
LOCATION:Education Building
SUMMARY:Easter Bunny Eggstravaganza
URL;VALUE=URI:https://stjohnselc1002.org/events/easter-bunny-eggstravaganza
 /2025-04-05
ATTACH;FILENAME=Easter Bunny Race 2026 Ad.jpg;FMTTYPE=image/jpeg:https://dq
 5pwpg1q8ru0.cloudfront.net/2026/03/13/19/43/19/c58445c2-3aa1-414c-8dd1-0e2
 928fd98d5/Easter%20Bunny%20Race%202026%20Ad.jpg
END:VEVENT
END:VCALENDAR
